BEGIN:VCALENDAR
VERSION:2.0
PRODID:-//CSTM - ECPv6.15.12.2//NONSGML v1.0//EN
CALSCALE:GREGORIAN
METHOD:PUBLISH
X-WR-CALNAME:CSTM
X-ORIGINAL-URL:https://cstm.ch
X-WR-CALDESC:Eventi per CSTM
REFRESH-INTERVAL;VALUE=DURATION:PT1H
X-Robots-Tag:noindex
X-PUBLISHED-TTL:PT1H
BEGIN:VTIMEZONE
TZID:Europe/Rome
BEGIN:DAYLIGHT
TZOFFSETFROM:+0100
TZOFFSETTO:+0200
TZNAME:CEST
DTSTART:20250330T010000
END:DAYLIGHT
BEGIN:STANDARD
TZOFFSETFROM:+0200
TZOFFSETTO:+0100
TZNAME:CET
DTSTART:20251026T010000
END:STANDARD
BEGIN:DAYLIGHT
TZOFFSETFROM:+0100
TZOFFSETTO:+0200
TZNAME:CEST
DTSTART:20260329T010000
END:DAYLIGHT
BEGIN:STANDARD
TZOFFSETFROM:+0200
TZOFFSETTO:+0100
TZNAME:CET
DTSTART:20261025T010000
END:STANDARD
BEGIN:DAYLIGHT
TZOFFSETFROM:+0100
TZOFFSETTO:+0200
TZNAME:CEST
DTSTART:20270328T010000
END:DAYLIGHT
BEGIN:STANDARD
TZOFFSETFROM:+0200
TZOFFSETTO:+0100
TZNAME:CET
DTSTART:20271031T010000
END:STANDARD
END:VTIMEZONE
BEGIN:VEVENT
DTSTART;TZID=Europe/Rome:20260504T090000
DTEND;TZID=Europe/Rome:20260504T180000
DTSTAMP:20260423T175130
CREATED:20210430T105939Z
LAST-MODIFIED:20250630T081343Z
UID:10000112-1777885200-1777917600@cstm.ch
SUMMARY:Le Cinque Emozioni in Medicina Cinese: il massaggio energetico per armonizzare lo stato psicoemotivo
DESCRIPTION:Come ormai noto\, la Medicina Tradizionale Cinese indica quali sono le cinque Emozioni di base nell’uomo e le “aggancia” ai cinque organi.\nLe cinque reazioni psicofisiche fisiologiche vengono così accoppiate: la rabbia al fegato\, l’ipereccitazione al cuore\, il rimuginare della mente con la milza-pancreas\, la tristezza al polmone\, la paura ai reni.\nNaturalmente\, da fisiologiche le cinque emozioni (ed i sette sentimenti) possono diventare patologiche\, se permangono nell’organismo mente-corpo troppo a lungo e se non vengono trasformate.\nIn MTC\, le cinque emozioni sono una delle tre principali cause di malattia\, insieme ai fattori climatici ed agli errori alimentari.
URL:https://cstm.ch/corso/le-cinque-emozioni-in-medicina-cinese-il-massaggio-energetico/
LOCATION:CSTM\, Via Carvina 2\, Taverne\, 6807\, Svizzera
CATEGORIES:Corso di aggiornamento,Inizio corso aggiornamento
ATTACH;FMTTYPE=image/jpeg:https://cstm.ch/wp-content/uploads/2019/10/emozioni-in-MTC.jpg
END:VEVENT
BEGIN:VEVENT
DTSTART;TZID=Europe/Rome:20260509T080000
DTEND;TZID=Europe/Rome:20260509T170000
DTSTAMP:20260423T175130
CREATED:20230512T064709Z
LAST-MODIFIED:20251006T141854Z
UID:10000169-1778313600-1778346000@cstm.ch
SUMMARY:BG1 – Concetto di salute\, concezione dell’essere umano\, etica
DESCRIPTION:L’obiettivo di questo modulo è quello di garantire che ogni terapista complementare apprenda e promuova il concetto di prevenzione e di salute\, le dinamiche che regolano la salute dell’uomo nel contesto storico-sociale attuale\, sappia fare propri i concetti di olismo e di equilibrio legati all’essere umano\, sappia comportarsi in modo professionale nel rispetto dei principi etici e delle regole di deontologia professionale\, impegnandosi a difendere la sua professione e a promuovere la salute. \nQuesto modulo fa parte dell’unità d’apprendimento BG – Fondamenti della professione è composta da 2 moduli: \n\nBG1 – Concetto di salute\, consezione dell’essere umano\, etica (28 ore)\nBG2 – Identità professionale\, gestione di un ambulatorio (28 ore)
URL:https://cstm.ch/corso/bg1-concetto-di-salute-concezione-dellessere-umano-etica-2/
LOCATION:CSTM\, Via Carvina 2\, Taverne\, 6807\, Svizzera
CATEGORIES:In evidenza,Inizio corso tronco comune,Tronco comune
ATTACH;FMTTYPE=image/jpeg:https://cstm.ch/wp-content/uploads/2023/05/bg1.jpg
END:VEVENT
BEGIN:VEVENT
DTSTART;TZID=Europe/Rome:20260509T083000
DTEND;TZID=Europe/Rome:20260509T163000
DTSTAMP:20260423T175130
CREATED:20220527T081020Z
LAST-MODIFIED:20250630T081641Z
UID:10000145-1778315400-1778344200@cstm.ch
SUMMARY:La psicosomatica
DESCRIPTION:In ambito medico è ormai largamente condivisa l’idea che il benessere fisico abbia una sua influenza su sentimenti ed emozioni e che\, a loro volta\, questi ultimi abbiano una certa ripercussione sul corpo. Il corso si propone di approfondire una visione dell’essere umano in quanto unità psicofisica e riflettere sull’importanza che i fattori emotivi rivestono nell’ambito di ogni relazione di cura.\nLa psicosomatica è una branca della medicina e della psicologia clinica che studia il rapporto delicato tra mente e corpo\, mettendo in relazione tutti quei cambiamenti che possono reciprocamente influenzare sia lo stato di salute fisica che il benessere emotivo.
URL:https://cstm.ch/corso/la-psicosomatica/
LOCATION:CSTM\, Via Carvina 2\, Taverne\, 6807\, Svizzera
CATEGORIES:Corso di aggiornamento,Inizio corso aggiornamento
ATTACH;FMTTYPE=image/jpeg:https://cstm.ch/wp-content/uploads/2022/05/psicosomatica2web.jpg
END:VEVENT
BEGIN:VEVENT
DTSTART;TZID=Europe/Rome:20260509T133000
DTEND;TZID=Europe/Rome:20260509T173000
DTSTAMP:20260423T175130
CREATED:20220527T085857Z
LAST-MODIFIED:20250630T081308Z
UID:10000148-1778333400-1778347800@cstm.ch
SUMMARY:Alimentazione e malattie dell’apparato digerente (online)
DESCRIPTION:L’apparato digerente è una delle meraviglie del corpo umano\, è qualcosa di molto robusto e resistente\, interamente automatico e complesso. Compie straordinarie trasformazioni chimiche che mutano il cibo in piccole unità che possiamo assorbire ed utilizzare.\nPurtroppo\, però\, come sosteneva Ippocrate\, che “tutte le malattie cominciano nell’intestino”\, anche questo straordinario organo va incontro ad alcune patologie che lo rendono meno funzionante\, creando non pochi problemi in chi si ammala. \nModalità del corso speciale\nIl corso si svolge online in modalità sincrona\, ossia un’attività formativa in real-time\, in cui il docente e i discenti comunicano da luoghi diversi\, ma contemporaneamente (classe virtuale).
URL:https://cstm.ch/corso/alimentazione-e-malattie-dellapparato-digerente-online/
CATEGORIES:Corso di aggiornamento,Corso online,Inizio corso aggiornamento
ATTACH;FMTTYPE=image/jpeg:https://cstm.ch/wp-content/uploads/2022/05/apparato-digerente.jpg
END:VEVENT
BEGIN:VEVENT
DTSTART;TZID=Europe/Rome:20260511T083000
DTEND;TZID=Europe/Rome:20260511T163000
DTSTAMP:20260423T175130
CREATED:20250630T081918Z
LAST-MODIFIED:20260402T153711Z
UID:10001223-1778488200-1778517000@cstm.ch
SUMMARY:Trattamento dell’arto superiore con la terapia manuale
DESCRIPTION:L’abilità manuale estremamente sviluppata rappresenta una delle caratteristiche distintive degli esseri umani. La corretta funzionalità dell’arto superiore consente alla mano di effettuare\, senza difficoltà o dolori\, movimenti complessi. L’arto superiore è unito al tronco tramite muscoli\, eccezion fatta per l’articolazione sterno-claveare che è l’unica ad unire l’arto superiore al tronco. La complessa disposizione muscolare consente all’arto di compiere un’ampia serie di movimenti in relazione al tronco. Le diverse relazioni muscolari dell’arto superiore sono alla base del forte rapporto che esiste tra quest’ultimo ed il rachide cervicale\, dorsale\, la gabbia toracica ed il complesso lombo-sacropelvico. \nSaper valutare e trattare una problematica a carico dei muscoli o delle articolazioni dell’arto superiore consente al paziente di recuperare la capacità di svolgere agevolmente la maggior parte delle attività della vita quotidiana\, sia a livello lavorativo che ricreativo o sportivo.
URL:https://cstm.ch/corso/trattamento-dellarto-superiore-con-la-terapia-manuale/
LOCATION:CSTM\, Via Carvina 2\, Taverne\, 6807\, Svizzera
CATEGORIES:Corso di aggiornamento,Inizio corso aggiornamento
ATTACH;FMTTYPE=image/jpeg:https://cstm.ch/wp-content/uploads/2020/05/terapia_manuale.jpg
END:VEVENT
BEGIN:VEVENT
DTSTART;TZID=Europe/Rome:20260516T083000
DTEND;TZID=Europe/Rome:20260516T173000
DTSTAMP:20260423T175130
CREATED:20200520T164104Z
LAST-MODIFIED:20250630T085533Z
UID:10000091-1778920200-1778952600@cstm.ch
SUMMARY:Il dolore e l’artrosi dell’anca
DESCRIPTION:L’anca è l’articolazione prossimale dell’arto inferiore\, è dotata di grande mobilità ed allo stesso tempo di notevole stabilità. Queste due caratteristiche contrapposte la espongono a tensioni\, dolori e consumo precoce; questo accade sia nei pazienti sportivi che in quelli sedentari.
URL:https://cstm.ch/corso/il-dolore-e-lartrosi-dellanca/
LOCATION:CSTM\, Via Carvina 2\, Taverne\, 6807\, Svizzera
CATEGORIES:Corso di aggiornamento,Inizio corso aggiornamento
ATTACH;FMTTYPE=image/jpeg:https://cstm.ch/wp-content/uploads/2019/06/anca-dolore.jpg
END:VEVENT
BEGIN:VEVENT
DTSTART;TZID=Europe/Rome:20260523T090000
DTEND;TZID=Europe/Rome:20260523T173000
DTSTAMP:20260423T175130
CREATED:20240527T105937Z
LAST-MODIFIED:20260402T160046Z
UID:10001193-1779526800-1779557400@cstm.ch
SUMMARY:La sfera affettiva e il trattamento articolare: i Punti Luo
DESCRIPTION:Ai Punti Luo è demandato il controllo delle cosiddette “piccole articolazioni”: segmenti rachidei\, polso\, gomito\, collo\, mani e piedi. Si tratta di un gruppo di Punti energetici\, da cui originano piccoli meridiani\, dalle differenti funzioni: oltre a quella osteoarticolare\, hanno anche una funzione incentrata sull’armonia relazionale-sociale. \nA livello della pelle\, i Punti Luo si manifestano attraverso la dilatazioni di capillari (angiomi). Pertanto\, la comparsa di angiomi a livello di particolari aree cutanee è riconducibile ad una perturbazione dei Luo.
URL:https://cstm.ch/corso/la-sfera-affettiva-e-il-trattamento-articolare-i-punti-luo/
LOCATION:CSTM\, Via Carvina 2\, Taverne\, 6807\, Svizzera
CATEGORIES:Corso di aggiornamento,Inizio corso aggiornamento
ATTACH;FMTTYPE=image/jpeg:https://cstm.ch/wp-content/uploads/2024/05/Luo.jpg
END:VEVENT
BEGIN:VEVENT
DTSTART;TZID=Europe/Rome:20260524T130000
DTEND;TZID=Europe/Rome:20260524T170000
DTSTAMP:20260423T175130
CREATED:20230612T064959Z
LAST-MODIFIED:20251006T142205Z
UID:10001002-1779627600-1779642000@cstm.ch
SUMMARY:BG2 – Identità professionale\, gestione di un ambulatorio
DESCRIPTION:Questo modulo permette al Terapista Complementare di consolidare la propria conoscenza rispetto ai fondamenti della terapia complementare\, in modo da acquisire una propria identità professionale specifica\, fondata sulla capacità di gestire al meglio l’interazione con un cliente\, in un ambiente consono\, protetto e garantito dalla conoscenza del contesto sociale\, sanitario\, giuridico\, nel pieno rispetto dei propri limiti e delle proprie competenze\, applicate in un contesto fortemente orientato alla qualità del servizio erogato. \nQuesto modulo fa parte dell’unità d’apprendimento BG – Fondamenti della professione è composta da 2 moduli: \n\nBG1 – Concetto di salute\, concezione dell’essere umano\, etica (28 ore)\nBG2 – Identità professionale\, gestione di un ambulatorio (28 ore)
URL:https://cstm.ch/corso/bg2-identita-professionale-gestione-di-un-ambulatorio-2/
LOCATION:CSTM\, Via Carvina 2\, Taverne\, 6807\, Svizzera
CATEGORIES:In evidenza,Inizio corso tronco comune,Tronco comune
ATTACH;FMTTYPE=image/jpeg:https://cstm.ch/wp-content/uploads/2023/05/bg2.jpg
END:VEVENT
BEGIN:VEVENT
DTSTART;TZID=Europe/Rome:20260530T083000
DTEND;TZID=Europe/Rome:20260530T170000
DTSTAMP:20260423T175130
CREATED:20230501T151305Z
LAST-MODIFIED:20250630T084428Z
UID:10000159-1780129800-1780160400@cstm.ch
SUMMARY:Il Kinesiotaping linfatico
DESCRIPTION:Il kinesio taping è uno strumento molto utilizzato e conosciuto. Viene impiegato in molteplici campi: traumi sportivi\, dolori muscolari\, con azione estetica ed anche nella gestione di edemi. Quest’ultimo ambito è di più recente sviluppo\, dove si è dimostrato un valido aiuto per la gestione di edemi post traumatici\, post chirurgici\, linfatici ed idiopatici.
URL:https://cstm.ch/corso/il-kinesiotaping-linfatico/
LOCATION:CSTM\, Via Carvina 2\, Taverne\, 6807\, Svizzera
CATEGORIES:Corso di aggiornamento,Inizio corso aggiornamento
ATTACH;FMTTYPE=image/jpeg:https://cstm.ch/wp-content/uploads/2022/11/KT-linfatico.jpg
END:VEVENT
BEGIN:VEVENT
DTSTART;TZID=Europe/Rome:20260531T090000
DTEND;TZID=Europe/Rome:20260531T180000
DTSTAMP:20260423T175130
CREATED:20230512T183227Z
LAST-MODIFIED:20260402T161050Z
UID:10000164-1780218000-1780250400@cstm.ch
SUMMARY:Dispnea e asma\, ansia e oppressione: le disarmonie del petto in Medicina Cinese
DESCRIPTION:La fatica a respirare in Medicina Cinese può originare dal funzionamento energetico del Cuore e/o dei Polmoni.\nLo Shen smarrisce il controllo sui movimenti energetici dell’organismo e la persona perde la relazione con il suo centro di coordinamento\, con il suo Cuore: ne risulta l’ansia. Le funzioni degli organi e la circolazione energetica diviene disorganizzata.\nIl Cuore è\, dicono i Classici\, la sede dello Shen. È il modo cinese per indicare lo psichismo è la sede della nostra interiorità. \nSe l’armonia nell’inspirazione e nell’espirazione viene meno\, si può generare asma\, o semplice difficoltà in una delle due fasi. La fatica del respirare va valutata secondo la presenza di sibili e fischi. \nAlcune forme di asma sono riconducibili alle allergie\, altre ad uno stress psichico intenso. L’energia dei Polmoni non scende e si accumula al torace.
URL:https://cstm.ch/corso/alle-origini-dellansia-e-dellasma-in-medicina-cinese/
LOCATION:CSTM\, Via Carvina 2\, Taverne\, 6807\, Svizzera
CATEGORIES:Corso di aggiornamento,Inizio corso aggiornamento
ATTACH;FMTTYPE=image/jpeg:https://cstm.ch/wp-content/uploads/2023/05/ansia.jpg
END:VEVENT
END:VCALENDAR