BEGIN:VCALENDAR
VERSION:2.0
PRODID:-//CSTM - ECPv6.15.12.2//NONSGML v1.0//EN
CALSCALE:GREGORIAN
METHOD:PUBLISH
X-WR-CALNAME:CSTM
X-ORIGINAL-URL:https://cstm.ch
X-WR-CALDESC:Eventi per CSTM
REFRESH-INTERVAL;VALUE=DURATION:PT1H
X-Robots-Tag:noindex
X-PUBLISHED-TTL:PT1H
BEGIN:VTIMEZONE
TZID:Europe/Rome
BEGIN:DAYLIGHT
TZOFFSETFROM:+0100
TZOFFSETTO:+0200
TZNAME:CEST
DTSTART:20250330T010000
END:DAYLIGHT
BEGIN:STANDARD
TZOFFSETFROM:+0200
TZOFFSETTO:+0100
TZNAME:CET
DTSTART:20251026T010000
END:STANDARD
BEGIN:DAYLIGHT
TZOFFSETFROM:+0100
TZOFFSETTO:+0200
TZNAME:CEST
DTSTART:20260329T010000
END:DAYLIGHT
BEGIN:STANDARD
TZOFFSETFROM:+0200
TZOFFSETTO:+0100
TZNAME:CET
DTSTART:20261025T010000
END:STANDARD
BEGIN:DAYLIGHT
TZOFFSETFROM:+0100
TZOFFSETTO:+0200
TZNAME:CEST
DTSTART:20270328T010000
END:DAYLIGHT
BEGIN:STANDARD
TZOFFSETFROM:+0200
TZOFFSETTO:+0100
TZNAME:CET
DTSTART:20271031T010000
END:STANDARD
END:VTIMEZONE
BEGIN:VEVENT
DTSTART;TZID=Europe/Rome:20261205T083000
DTEND;TZID=Europe/Rome:20261205T173000
DTSTAMP:20260424T042821
CREATED:20210504T163101Z
LAST-MODIFIED:20260401T083509Z
UID:10000118-1796459400-1796491800@cstm.ch
SUMMARY:Gravidanza\, parto e puerperio con il Training Autogeno
DESCRIPTION:Il Training Autogeno di Schultz è un metodo di auto-distensione psichica e somatica molto utilizzato in diversi ambiti tra cui la gravidanza e la preparazione al parto. Studi scientifici provano l’utilità del suo impiego per ridurre alcuni fastidiosi disturbi durante la gravidanza\, quali nausea e vomito\, insonnia\, disturbi circolatori\, stati d’ansia.\nIl TA si è dimostrato molto utile nella preparazione psicofisica al parto in quanto rappresenta un utile strumento che\, in seguito all’allenamento sistematico\, permette un più profondo e rapido recupero di energie\, la capacità di indursi alla calma\, una migliore regolazione delle funzioni corporee involontarie (apparato cardiocircolatorio\, viscerale\, respiratorio) ed una modifica del vissuto doloroso che ne diminuisce la percezione.\nIl TA è “una delle metodiche più diffuse\, più semplici e più realizzabili per aiutare la donna a divenire pienamente protagonista attiva del proprio parto”. (E. Padovani) \n 
URL:https://cstm.ch/corso/gravidanza-parto-e-puerperio-con-il-training-autogeno/
LOCATION:CSTM\, Via Carvina 2\, Taverne\, 6807\, Svizzera
CATEGORIES:Corso di aggiornamento,Inizio corso aggiornamento
ATTACH;FMTTYPE=image/jpeg:https://cstm.ch/wp-content/uploads/2021/05/TA-gravidanza-1.jpg
END:VEVENT
BEGIN:VEVENT
DTSTART;TZID=Europe/Rome:20261206T090000
DTEND;TZID=Europe/Rome:20261206T180000
DTSTAMP:20260424T042821
CREATED:20250509T170522Z
LAST-MODIFIED:20260401T083741Z
UID:10001212-1796547600-1796580000@cstm.ch
SUMMARY:Stress: la causa più importante di lesione organica - Trattamenti energetici in MTC
DESCRIPTION:Durante lo stato di stress\, l’organismo attiva una serie di azioni biologiche atte a contrastare un possibile stimolo avverso\, sia fisico che mentale\, che tende a modificare il nostro equilibrio (omeostasi). Se queste reazioni si dimostrano inefficaci\, esse stesse possono\, a loro volta\, generare problemi di Salute (per esempio quando\, a seguito di un forte stress\, cala la vista o arrivano i primi acufeni\, cadono i capelli o scompaiono le mestruazioni).\nSecondo la Medicina Tradizionale Cinese\, lo stress rappresenta la causa più importante di lesione del Jing\, l’Essenza dei cinque Organi (Polmone\, Cuore\, Milza\, Fegato e Reni).
URL:https://cstm.ch/corso/stress-trattamenti-energetici-in-mtc/
LOCATION:CSTM\, Via Carvina 2\, Taverne\, 6807\, Svizzera
CATEGORIES:Corso di aggiornamento,Inizio corso aggiornamento
ATTACH;FMTTYPE=image/jpeg:https://cstm.ch/wp-content/uploads/2025/05/Stress-MTC.jpg
END:VEVENT
BEGIN:VEVENT
DTSTART;TZID=Europe/Rome:20261218T090000
DTEND;TZID=Europe/Rome:20261218T180000
DTSTAMP:20260424T042821
CREATED:20240425T131531Z
LAST-MODIFIED:20260401T084238Z
UID:10001187-1797584400-1797616800@cstm.ch
SUMMARY:Ipertensione: il trattamento energetico
DESCRIPTION:L’ipertensione arteriosa\, una delle cinque vie di patologia più diffusa\, si manifesta quando la pressione del sangue sulle pareti delle arterie supera i valori soglia (90 mmhg – 140 mmhg). È una condizione che costituisce “fattore di rischio” per altre patologie\, sia cardiovascolari (infarto e ictus)\, sia a danno per altri organi\, come i reni o la retina. \nL’ambito cardiovascolare\, in Medicina Cinese\, corrisponde alla Loggia del Fuoco\, quella dove regna il Cuore Imperatore\, la sede di coerenza\, coscienza e consapevolezza. È l’impulso dell’uomo alla trascendenza. Se la naturale vocazione al trascendente non si realizza\, si manifesta il desiderio e la frustrazione per lo stesso.\nIl fuoco divora\, non si accontenta. Se la spinta del fuoco eccede\, può disperdere energie in troppe direzioni\, perdendo il senso dei propri limiti: soffrire di ansia\, inquietudine\, follia e presentare problematiche cardiache e circolatorie.
URL:https://cstm.ch/corso/ipertensione-il-trattamento-energetico/
LOCATION:CSTM\, Via Carvina 2\, Taverne\, 6807\, Svizzera
CATEGORIES:Corso di aggiornamento,Inizio corso aggiornamento
ATTACH;FMTTYPE=image/jpeg:https://cstm.ch/wp-content/uploads/2024/04/ipertensione.jpg
END:VEVENT
BEGIN:VEVENT
DTSTART;TZID=Europe/Rome:20261218T133000
DTEND;TZID=Europe/Rome:20261218T173000
DTSTAMP:20260424T042821
CREATED:20220526T112637Z
LAST-MODIFIED:20260401T084017Z
UID:10000141-1797600600-1797615000@cstm.ch
SUMMARY:I minerali per la Salute dell’uomo (online)
DESCRIPTION:Nonostante costituiscano solo il 4-5 % del peso corporeo\, i minerali svolgono importantissime funzioni all’interno del corpo umano. Essi rientrano nella costituzione di molti tessuti e rappresentano fattori essenziali per le funzioni biologiche.\nMa quali sono e dove si trovano questi elementi inorganici importantissimi?\nScopriamo insieme come avere un giusto apporto giornaliero che ci permette di stare in salute. \nModalità del corso – online\nIl corso si svolge online in modalità sincrona\, ossia un’attività formativa in real-time\, in cui il docente e i discenti comunicano da luoghi diversi\, ma contemporaneamente (classe virtuale).
URL:https://cstm.ch/corso/i-minerali-per-la-salute-delluomo/
LOCATION:CSTM\, Via Carvina 2\, Taverne\, 6807\, Svizzera
CATEGORIES:Corso di aggiornamento,Corso online,Inizio corso aggiornamento
ATTACH;FMTTYPE=image/jpeg:https://cstm.ch/wp-content/uploads/2022/05/minerali.jpg
END:VEVENT
END:VCALENDAR