BEGIN:VCALENDAR
VERSION:2.0
PRODID:-//CSTM - ECPv6.15.12.2//NONSGML v1.0//EN
CALSCALE:GREGORIAN
METHOD:PUBLISH
X-WR-CALNAME:CSTM
X-ORIGINAL-URL:https://cstm.ch
X-WR-CALDESC:Eventi per CSTM
REFRESH-INTERVAL;VALUE=DURATION:PT1H
X-Robots-Tag:noindex
X-PUBLISHED-TTL:PT1H
BEGIN:VTIMEZONE
TZID:Europe/Rome
BEGIN:DAYLIGHT
TZOFFSETFROM:+0100
TZOFFSETTO:+0200
TZNAME:CEST
DTSTART:20260329T010000
END:DAYLIGHT
BEGIN:STANDARD
TZOFFSETFROM:+0200
TZOFFSETTO:+0100
TZNAME:CET
DTSTART:20261025T010000
END:STANDARD
BEGIN:DAYLIGHT
TZOFFSETFROM:+0100
TZOFFSETTO:+0200
TZNAME:CEST
DTSTART:20270328T010000
END:DAYLIGHT
BEGIN:STANDARD
TZOFFSETFROM:+0200
TZOFFSETTO:+0100
TZNAME:CET
DTSTART:20271031T010000
END:STANDARD
BEGIN:DAYLIGHT
TZOFFSETFROM:+0100
TZOFFSETTO:+0200
TZNAME:CEST
DTSTART:20280326T010000
END:DAYLIGHT
BEGIN:STANDARD
TZOFFSETFROM:+0200
TZOFFSETTO:+0100
TZNAME:CET
DTSTART:20281029T010000
END:STANDARD
END:VTIMEZONE
BEGIN:VEVENT
DTSTART;TZID=Europe/Rome:20270108T083000
DTEND;TZID=Europe/Rome:20270108T170000
DTSTAMP:20260424T055045
CREATED:20230425T093748Z
LAST-MODIFIED:20260401T090128Z
UID:10000155-1799397000-1799427600@cstm.ch
SUMMARY:La gestione del dolore muscoloscheletrico con il massaggio delle zone riflesse dell’orecchio
DESCRIPTION:Come nel piede\, nella mano e nel viso\, anche nell’orecchio è rappresentato il corpo umano miniaturizzato. Il massaggio delle zone riflesse dell’orecchio\, finalizzato al trattamento del dolore muscolo-scheletrico\, rappresenta un modo indiretto ed efficace nel trattamento dei disturbi dolorosi dell’apparato locomotore.
URL:https://cstm.ch/corso/massaggio-delle-zone-riflesse-dellorecchio/
LOCATION:CSTM\, Via Carvina 2\, Taverne\, 6807\, Svizzera
CATEGORIES:Corso di aggiornamento,Inizio corso aggiornamento
ATTACH;FMTTYPE=image/jpeg:https://cstm.ch/wp-content/uploads/2023/04/Orecchio.jpg
END:VEVENT
BEGIN:VEVENT
DTSTART;TZID=Europe/Rome:20270111T083000
DTEND;TZID=Europe/Rome:20270111T173000
DTSTAMP:20260424T055045
CREATED:20250509T161146Z
LAST-MODIFIED:20260401T090539Z
UID:10001210-1799656200-1799688600@cstm.ch
SUMMARY:Idro\, balneo e termoterapia - modulo2
DESCRIPTION:L’idroterapia\, la termoterapia e la balneologia sono tecniche antiche che affondano le loro radici nella tradizione.\nTramandate da secoli e sempre più specializzate\, possono essere utilizzate come coadiuvanti nelle terapie.
URL:https://cstm.ch/corso/idro-balneo-e-termoterapia-modulo2/
LOCATION:CSTM\, Via Carvina 2\, Taverne\, 6807\, Svizzera
CATEGORIES:Corso di aggiornamento,Inizio corso aggiornamento
ATTACH;FMTTYPE=image/jpeg:https://cstm.ch/wp-content/uploads/2021/01/idroterapia.jpg
END:VEVENT
BEGIN:VEVENT
DTSTART;TZID=Europe/Rome:20270111T083000
DTEND;TZID=Europe/Rome:20270111T173000
DTSTAMP:20260424T055045
CREATED:20260401T091028Z
LAST-MODIFIED:20260401T091028Z
UID:10001240-1799656200-1799688600@cstm.ch
SUMMARY:La comunicazione efficace tra operatore sanitario e paziente
DESCRIPTION:Nelle professioni sanitarie “…esiste ancora spazio per lavorare\, per migliorare le conoscenze e le tecniche\, tuttavia ciò che va acquisito\, di pari passo con la ricerca scientifica\, è la capacità di comunicare con i pazienti. La comunicazione medico-paziente non è solo argomento di estrema attualità: è il più potente mezzo attraverso il quale è possibile curare”. (Prof. Umberto Veronesi)
URL:https://cstm.ch/corso/la-comunicazione-efficace-tra-operatore-sanitario-e-paziente-2027/
LOCATION:CSTM\, Via Carvina 2\, Taverne\, 6807\, Svizzera
CATEGORIES:Corso di aggiornamento,Inizio corso aggiornamento
ATTACH;FMTTYPE=image/jpeg:https://cstm.ch/wp-content/uploads/2023/05/mg3.jpg
END:VEVENT
BEGIN:VEVENT
DTSTART;TZID=Europe/Rome:20270114T083000
DTEND;TZID=Europe/Rome:20270114T173000
DTSTAMP:20260424T055045
CREATED:20230611T164438Z
LAST-MODIFIED:20260327T153811Z
UID:10000235-1799915400-1799947800@cstm.ch
SUMMARY:Drenaggio linfatico manuale - diurno
DESCRIPTION:Il Drenaggio Linfatico Manuale è una tecnica terapeutica manuale che fonda la sua efficacia nella capacità di disintossicare il corpo dalle scorie e dalle tossine grazie all’azione specifica di pulizia dei linfonodi.\nLe manovre del Drenaggio Linfatico prevedono l’alternanza di movimenti lievi e di mobilizzazione che devono rispettare alcune caratteristiche fondamentali\, basate soprattutto sulla consapevolezza che il sistema linfatico è per il 90% un sistema superficiale e suddiviso in territori specifici.\nIl Linfodrenaggio è una tecnica molto rilassante ed è conosciuto soprattutto per i suoi effetti positivi nel trattamento degli inestetismi provocati dalla cellulite o per ridurre il gonfiore e la pesantezza delle gambe\, persino nelle donne in dolce attesa.\nA livello generale\, il Drenaggio Linfatico Manuale viene controindicato\, a scopo precauzionale\, in una serie di condizioni nelle quali non è garantita la sicurezza del paziente conseguentemente al trattamento ricevuto.
URL:https://cstm.ch/corso/drenaggio-linfatico-manuale-diurno/
LOCATION:CSTM\, Via Carvina 2\, Taverne\, 6807\, Svizzera
CATEGORIES:Corso di formazione,Inizio corso formazione
ATTACH;FMTTYPE=image/jpeg:https://cstm.ch/wp-content/uploads/2020/03/dlm-web.jpg
END:VEVENT
BEGIN:VEVENT
DTSTART;TZID=Europe/Rome:20270115T083000
DTEND;TZID=Europe/Rome:20270115T164500
DTSTAMP:20260424T055045
CREATED:20230611T164532Z
LAST-MODIFIED:20260327T160835Z
UID:10000973-1800001800-1800031500@cstm.ch
SUMMARY:Coaching Nutrizionale - diurno
DESCRIPTION:Il Coaching Nutrizionale mira a fornire alle persone strumenti pratici per superare in modo duraturo gli ostacoli che impediscono l’adozione e il mantenimento di una dieta sana ed equilibrata. Il consulente in educazione alimentare supporta la persona nella comprensione delle proprie abitudini alimentari e nell’adozione di scelte nutrizionali equilibrate\, favorendo la creazione di uno stile di vita salutare e sostenibile\, rendendolo consapevole e autonomo nelle proprie scelte. \nQuesto percorso formativo\, rivolto a chi è interessato all’alimentazione\, esplora il tema in tutte le sue dimensioni. I partecipanti acquisiranno strumenti pratici per accompagnare le persone nell’organizzazione delle proprie abitudini alimentari e nel miglioramento dello stile di vita.
URL:https://cstm.ch/corso/coaching-nutrizionale-diurno/
LOCATION:CSTM\, Via Carvina 2\, Taverne\, 6807\, Svizzera
CATEGORIES:Corso di formazione,Inizio corso formazione
ATTACH;FMTTYPE=image/jpeg:https://cstm.ch/wp-content/uploads/2022/09/coach1.jpg
END:VEVENT
BEGIN:VEVENT
DTSTART;TZID=Europe/Rome:20270115T083000
DTEND;TZID=Europe/Rome:20270115T173000
DTSTAMP:20260424T055045
CREATED:20230611T164408Z
LAST-MODIFIED:20260327T152459Z
UID:10000491-1800001800-1800034200@cstm.ch
SUMMARY:Massaggio classico – diurno
DESCRIPTION:Il Massaggio Classico è sicuramente la tecnica di intervento manuale più antica che ci sia e rientra nella vasta categoria delle tecniche di terapia manuale oggi codificate.\nI movimenti messi in atto dalle tecniche del massaggio vengono effettuati tramite precise manovre sequenziali (sfioramento\, vibrazione\, impastamento…)\, con caratteristiche ben definite e finalizzate a ottenere un preciso effetto fisiologico sull’organismo.\nGli effetti benefici del massaggio sono svariati e vanno dal rilassamento al vigore muscolare\, dall’annullamento dello stress al ripristino dell’energia…\nSolitamente il massaggio classico non presenta particolari controindicazioni. Tuttavia\, è opportuno considerare che in alcune situazioni sia opportuno evitarlo.
URL:https://cstm.ch/corso/massaggio-classico-diurno/
LOCATION:CSTM\, Via Carvina 2\, Taverne\, 6807\, Svizzera
CATEGORIES:Corso di formazione,Inizio corso formazione
ATTACH;FMTTYPE=image/jpeg:https://cstm.ch/wp-content/uploads/2019/06/massaggio.jpg
END:VEVENT
BEGIN:VEVENT
DTSTART;TZID=Europe/Rome:20270117T090000
DTEND;TZID=Europe/Rome:20270117T180000
DTSTAMP:20260424T055045
CREATED:20230501T150749Z
LAST-MODIFIED:20260401T091405Z
UID:10000158-1800176400-1800208800@cstm.ch
SUMMARY:Torcicollo e mal di testa nel Traditional Thai Massage e nel nipponico Shiatsu
DESCRIPTION:Due stili a confronto e due tecniche d’intervento mirate a risolvere la sintomatologia che può coinvolgere la testa ed il collo.\nVedremo come i due stili affrontano\, sia dal punto di vista teorico che dal punto di vista pratico\, la tensione muscolo-scheletrica e la tensione psico-emotiva che sottostanno a questa sintomatologia.
URL:https://cstm.ch/corso/torcicollo-e-mal-di-testa-nel-traditional-thai-massage-e-nello-shiatsu/
LOCATION:CSTM\, Via Carvina 2\, Taverne\, 6807\, Svizzera
CATEGORIES:Corso di aggiornamento,Inizio corso aggiornamento
ATTACH;FMTTYPE=image/jpeg:https://cstm.ch/wp-content/uploads/2023/05/il-torcicollo-un-disturbo-comune-ma-non-cosi-banale_c8d651fc-830e-11ed-b4db-615c9f30827d_960x500.jpg
END:VEVENT
BEGIN:VEVENT
DTSTART;TZID=Europe/Rome:20270119T083000
DTEND;TZID=Europe/Rome:20270119T173000
DTSTAMP:20260424T055045
CREATED:20240405T103534Z
LAST-MODIFIED:20260327T161714Z
UID:10001167-1800347400-1800379800@cstm.ch
SUMMARY:Massaggio del tessuto connettivo - diurno
DESCRIPTION:Il Massaggio del tessuto connettivo è una tecnica manuale in grado di trattare i disturbi di quello che\, all’interno del corpo umano\, viene considerato l’organo della forma: il connettivo che collega\, nutre e protegge ogni parte del corpo.\nLa tecnica del Massaggio Connettivale è caratterizzata da uno scorrimento della cute sul suo supporto\, operando\, così\, una trazione stimolante sul tessuto connettivo sottocutaneo e interstiziale.\nQuesto massaggio è anche noto come “reflessogeno connettivale” poiché agisce anche per via riflessa: tutti gli organi possono essere riequilibrati attraverso stimolazioni di specifiche zone della cute\, note come dermatomeri. I dermatomeri sono zone la cui esistenza è anatomicamente comprovata: possiamo quindi affermare che questa tecnica riflessa possiede delle solide fondamenta scientifiche.
URL:https://cstm.ch/corso/massaggio-del-tessuto-connettivo-diurno/
LOCATION:CSTM\, Via Carvina 2\, Taverne\, 6807\, Svizzera
CATEGORIES:Corso di formazione,Inizio corso formazione
ATTACH;FMTTYPE=image/jpeg:https://cstm.ch/wp-content/uploads/2019/08/mtc2.jpg
END:VEVENT
BEGIN:VEVENT
DTSTART;TZID=Europe/Rome:20270122T183000
DTEND;TZID=Europe/Rome:20270122T213000
DTSTAMP:20260424T055045
CREATED:20230612T065112Z
LAST-MODIFIED:20260327T170159Z
UID:10001018-1800642600-1800653400@cstm.ch
SUMMARY:MG1 – Primo Soccorso\, Rianimazione
DESCRIPTION:Al termine di questo modulo i partecipanti saranno in grado di valutare una potenziale situazione di emergenza\, come e se agire di fronte a pericoli per sé o per altri individui\, quali misure salvavita applicare dopo aver riconosciuto le principali situazioni di emergenza ed il modo di agire secondo lo stato del paziente\, sempre nel rispetto dei limiti professionali e personali. \nQuesto modulo fa parte dell’unità d’apprendimento MG – Fondamenti di medicina\, che è suddiviso in 3 moduli: \n\nMG1 – Primo soccorso\, rianimazione (10 ore)\nMG2 – Biologia\, Anatomia\, Fisiologia\, Patologia\, Epidemiologia\, Igiene\, Farmacologia (148 ore)\nMG3 – Sicurezza del cliente e del terapista (28 ore)
URL:https://cstm.ch/corso/mg1-primo-soccorso-rianimazione/
LOCATION:CSTM\, Via Carvina 2\, Taverne\, 6807\, Svizzera
CATEGORIES:In evidenza,Inizio corso tronco comune,Tronco comune
ATTACH;FMTTYPE=image/jpeg:https://cstm.ch/wp-content/uploads/2023/05/primo_soccorso.jpg
END:VEVENT
BEGIN:VEVENT
DTSTART;TZID=Europe/Rome:20270123T080000
DTEND;TZID=Europe/Rome:20270123T120000
DTSTAMP:20260424T055045
CREATED:20260401T091825Z
LAST-MODIFIED:20260401T091825Z
UID:10001241-1800691200-1800705600@cstm.ch
SUMMARY:BLS-AED-SRC Refresh
DESCRIPTION:
URL:https://cstm.ch/corso/bls-aed-src-refresh-1-2027/
LOCATION:CSTM\, Via Carvina 2\, Taverne\, 6807\, Svizzera
CATEGORIES:Corso di aggiornamento,Inizio corso aggiornamento
ATTACH;FMTTYPE=image/jpeg:https://cstm.ch/wp-content/uploads/2022/05/BLS-AED-SRC.jpg
END:VEVENT
BEGIN:VEVENT
DTSTART;TZID=Europe/Rome:20270123T133000
DTEND;TZID=Europe/Rome:20270123T173000
DTSTAMP:20260424T055045
CREATED:20260401T092258Z
LAST-MODIFIED:20260401T092258Z
UID:10001242-1800711000-1800725400@cstm.ch
SUMMARY:Alimentazione e malattie dell’apparato digerente (online)
DESCRIPTION:L’apparato digerente è una delle meraviglie del corpo umano\, è qualcosa di molto robusto e resistente\, interamente automatico e complesso. Compie straordinarie trasformazioni chimiche che mutano il cibo in piccole unità che possiamo assorbire ed utilizzare.\nPurtroppo\, però\, come sosteneva Ippocrate\, che “tutte le malattie cominciano nell’intestino”\, anche questo straordinario organo va incontro ad alcune patologie che lo rendono meno funzionante\, creando non pochi problemi in chi si ammala. \nModalità del corso speciale\nIl corso si svolge online in modalità sincrona\, ossia un’attività formativa in real-time\, in cui il docente e i discenti comunicano da luoghi diversi\, ma contemporaneamente (classe virtuale).
URL:https://cstm.ch/corso/alimentazione-e-malattie-dellapparato-digerente-online-2/
CATEGORIES:Corso di aggiornamento,Corso online,Inizio corso aggiornamento
ATTACH;FMTTYPE=image/jpeg:https://cstm.ch/wp-content/uploads/2022/05/apparato-digerente.jpg
END:VEVENT
BEGIN:VEVENT
DTSTART;TZID=Europe/Rome:20270124T090000
DTEND;TZID=Europe/Rome:20270124T180000
DTSTAMP:20260424T055045
CREATED:20240417T135743Z
LAST-MODIFIED:20260401T092525Z
UID:10001181-1800781200-1800813600@cstm.ch
SUMMARY:Morbo di Parkinson: il sostegno offerto dal massaggio e dai punti energetici in medicina cinese
DESCRIPTION:Il morbo di Parkinson è una malattia cronica e progressiva\, che rappresenta una delle cause più frequenti di disabilità fra i soggetti anziani. Attualmente\, è opinione diffusa\, nella comunità medica\, che il morbo di Parkinson derivi dalla combinazione di una qualche predisposizione genetica con l’esposizione a uno o più fattori ambientali\, concausa della malattia.\nIl morbo di Parkinson è la più comune forma di parkinsonismo\, un gruppo di malattie con caratteristiche e sintomi simili. \nLa terapia non può prescindere dall’approccio farmacologico\, ma è fondamentale che quest’ultimo sia associato ad altri tipi di trattamenti.\nStudiamo la proposta della Medicina Tradizionale Cinese\, sia per la prevenzione che per le diverse fasi della malattia.
URL:https://cstm.ch/corso/morbo-di-parkinson-il-sostegno-offerto-dal-massaggio-e-dei-punti-energetici-in-medicina-cinese/
LOCATION:CSTM\, Via Carvina 2\, Taverne\, 6807\, Svizzera
CATEGORIES:Corso di aggiornamento,Inizio corso aggiornamento
ATTACH;FMTTYPE=image/jpeg:https://cstm.ch/wp-content/uploads/2024/04/parkinson.jpg
END:VEVENT
BEGIN:VEVENT
DTSTART;TZID=Europe/Rome:20270125T083000
DTEND;TZID=Europe/Rome:20270125T173000
DTSTAMP:20260424T055045
CREATED:20230611T164331Z
LAST-MODIFIED:20260327T154501Z
UID:10000611-1800865800-1800898200@cstm.ch
SUMMARY:Massaggio delle zone riflesse del piede - diurno
DESCRIPTION:Il Massaggio delle zone riflesse del piede è una tecnica del benessere che rientra nelle discipline bio-naturali e ha radici antichissime. I punti riflessi\, dislocati su tutta la superficie dei piedi\, sono aree che rappresentano i sistemi e gli apparati del corpo umano. La loro stimolazione agisce beneficamente\, per via riflessa\, sulle zone di riferimento\, attivando i meccanismi di autoguarigione del nostro organismo.\nLa Riflessologia plantare è una tecnica non invasiva\, praticamente priva di effetti collaterali e controindicazioni\, adatta a pazienti di tutte le età.\nAnche se uno dei risultati più evidenti è quello di conferire all’individuo rilassamento e combattere lo stress\, l’obiettivo della terapia punta a problematiche più rilevanti\, affrontando vere e proprie disfunzioni.
URL:https://cstm.ch/corso/massaggio-delle-zone-riflesse-del-piede-diurno/
LOCATION:CSTM\, Via Carvina 2\, Taverne\, 6807\, Svizzera
CATEGORIES:Corso di formazione,Inizio corso formazione
ATTACH;FMTTYPE=image/jpeg:https://cstm.ch/wp-content/uploads/2023/02/dolore-rifl-1.jpg
END:VEVENT
BEGIN:VEVENT
DTSTART;TZID=Europe/Rome:20270131T083000
DTEND;TZID=Europe/Rome:20270131T163000
DTSTAMP:20260424T055045
CREATED:20260401T093048Z
LAST-MODIFIED:20260402T153614Z
UID:10001243-1801384200-1801413000@cstm.ch
SUMMARY:Trattamento dell’arto superiore con la terapia manuale
DESCRIPTION:L’abilità manuale estremamente sviluppata rappresenta una delle caratteristiche distintive degli esseri umani. La corretta funzionalità dell’arto superiore consente alla mano di effettuare\, senza difficoltà o dolori\, movimenti complessi. L’arto superiore è unito al tronco tramite muscoli\, eccezion fatta per l’articolazione sterno-claveare che è l’unica ad unire l’arto superiore al tronco. La complessa disposizione muscolare consente all’arto di compiere un’ampia serie di movimenti in relazione al tronco. Le diverse relazioni muscolari dell’arto superiore sono alla base del forte rapporto che esiste tra quest’ultimo ed il rachide cervicale\, dorsale\, la gabbia toracica ed il complesso lombo-sacropelvico. \nSaper valutare e trattare una problematica a carico dei muscoli o delle articolazioni dell’arto superiore consente al paziente di recuperare la capacità di svolgere agevolmente la maggior parte delle attività della vita quotidiana\, sia a livello lavorativo che ricreativo o sportivo.
URL:https://cstm.ch/corso/trattamento-dellarto-superiore-con-la-terapia-manuale-2027/
LOCATION:CSTM\, Via Carvina 2\, Taverne\, 6807\, Svizzera
CATEGORIES:Corso di aggiornamento,Inizio corso aggiornamento
ATTACH;FMTTYPE=image/jpeg:https://cstm.ch/wp-content/uploads/2020/05/terapia_manuale.jpg
END:VEVENT
END:VCALENDAR